BEGIN:VCALENDAR
VERSION:2.0
PRODID:-//wp-events-plugin.com//7.2.3.1//EN
TZID:Europe/Paris
X-WR-TIMEZONE:Europe/Paris
BEGIN:VEVENT
UID:37@solidaires93.org
DTSTART;TZID=Europe/Paris:20241117T140000
DTEND;TZID=Europe/Paris:20241117T140000
DTSTAMP:20241116T153116Z
URL:https://solidaires93.org/events/tournois-de-foot-palestine/
SUMMARY:Tournois de foot Palestine
DESCRIPTION:
LOCATION:Quartier Jacques Duclos\, cité Jacques Duclos\, Saint-Denis\, 932
 00\, France
X-APPLE-STRUCTURED-LOCATION;VALUE=URI;X-ADDRESS=cité Jacques Duclos\, Sain
 t-Denis\, 93200\, France;X-APPLE-RADIUS=100;X-TITLE=Quartier Jacques Duclo
 s:geo:0,0
END:VEVENT
BEGIN:VTIMEZONE
TZID:Europe/Paris
X-LIC-LOCATION:Europe/Paris
BEGIN:STANDARD
DTSTART:20241027T020000
TZOFFSETFROM:+0200
TZOFFSETTO:+0100
TZNAME:CET
END:STANDARD
END:VTIMEZONE
END:VCALENDAR