BEGIN:VCALENDAR
VERSION:2.0
PRODID:-//wp-events-plugin.com//7.2.3.1//EN
TZID:Europe/Paris
X-WR-TIMEZONE:Europe/Paris
BEGIN:VEVENT
UID:161@solidaires93.org
DTSTART;TZID=Europe/Paris:20250426T170000
DTEND;TZID=Europe/Paris:20250426T170000
DTSTAMP:20250407T165115Z
URL:https://solidaires93.org/events/soiree-des-collectifs-en-lutte-comite-
 des-residents-du-foyer-branly-le-collectif-des-sans-papiers-de-montreuil-l
 a-cimade-et-la-maison-ouverte/
SUMMARY:Soirée des collectifs en lutte : comité des résidents du foyer B
 ranly\, le collectif des sans papiers de Montreuil\, la Cimade et la Maiso
 n Ouverte
DESCRIPTION:Soirée des collectifs en lutte pour l’égalité des droits.\
 n\nAu programme :\n\n 	17h: Ouverture des portes/bar\n 	17h30: Prises de p
 aroles et récits de lutte\n 	20h: Repas collectif\n 	21h: Khora et Choral
 e féministe\n 	Exposition sur l’histoire des luttes de l’immigration\
 n\nSoirée prix libre\, pas de CB\, pensez à ramener des espèces\n\nSoir
 ée organisée par le comité des résidents du foyer Branly\, le collecti
 f des sans papiers de Montreuil\, la Cimade et la Maison Ouverte.\n\nLes r
 ésidents du foyer Branly viendront nous parler de leur lutte dans leur fo
 yer pour préserver leur cantine collective. Plus d'information sur la lut
 te des résident⋅es du foyer Branly sur le site de l'union locale Solida
 ires Montreuil : https://solidairesmontreuil.org/2025/04/05/soiree-des-col
 lectifs-en-lutte-26-avril-a-la-maison-ouverte/\n\n 
LOCATION:la Maison Ouverte de Montreuil\, 17 rue Hoche\, Montreuil\, 93100\
 , France
X-APPLE-STRUCTURED-LOCATION;VALUE=URI;X-ADDRESS=17 rue Hoche\, Montreuil\, 
 93100\, France;X-APPLE-RADIUS=100;X-TITLE=la Maison Ouverte de Montreuil:g
 eo:0,0
END:VEVENT
BEGIN:VTIMEZONE
TZID:Europe/Paris
X-LIC-LOCATION:Europe/Paris
BEGIN:DAYLIGHT
DTSTART:20250330T030000
TZOFFSETFROM:+0100
TZOFFSETTO:+0200
TZNAME:CEST
END:DAYLIGHT
END:VTIMEZONE
END:VCALENDAR