BEGIN:VCALENDAR
VERSION:2.0
PRODID:-//wp-events-plugin.com//7.2.3.1//EN
TZID:Europe/Paris
X-WR-TIMEZONE:Europe/Paris
BEGIN:VEVENT
UID:257@solidaires93.org
DTSTART;TZID=Europe/Paris:20250721T100000
DTEND;TZID=Europe/Paris:20250721T100000
DTSTAMP:20250720T073551Z
URL:https://solidaires93.org/events/rassemblement-pour-lhebergement-lacces
 -a-lecole-a-la-sante-et-aux-transports-des-mineur%e2%8b%85es-isole%e2%8b%8
 5es/
SUMMARY:Rassemblement pour l'hébergement\, l'accès à l'école\, à la sa
 nté et aux transports des mineur⋅es isolé⋅es
DESCRIPTION:à l'appel du collectif des Jeunes du parc de Belleville et de 
 SUD éducation Paris\n\n
LOCATION:Paris\, Hôtel de ville\, Hôtel de ville\, Paris\, 75004\, France
X-APPLE-STRUCTURED-LOCATION;VALUE=URI;X-ADDRESS=Hôtel de ville\, Paris\, 7
 5004\, France;X-APPLE-RADIUS=100;X-TITLE=Paris\, Hôtel de ville:geo:0,0
END:VEVENT
BEGIN:VTIMEZONE
TZID:Europe/Paris
X-LIC-LOCATION:Europe/Paris
BEGIN:DAYLIGHT
DTSTART:20250330T030000
TZOFFSETFROM:+0100
TZOFFSETTO:+0200
TZNAME:CEST
END:DAYLIGHT
END:VTIMEZONE
END:VCALENDAR