BEGIN:VCALENDAR
VERSION:2.0
PRODID:-//wp-events-plugin.com//7.2.3.1//EN
TZID:Europe/Paris
X-WR-TIMEZONE:Europe/Paris
BEGIN:VEVENT
UID:60@solidaires93.org
DTSTART;TZID=Europe/Paris:20250110T160000
DTEND;TZID=Europe/Paris:20250110T160000
DTSTAMP:20250106T161023Z
URL:https://solidaires93.org/events/rassemblement-pour-le-relogement-des-h
 abitant-es-du-bathyscaphe-3/
SUMMARY:Rassemblement pour le relogement des habitant⋅es du Bathyscaphe
DESCRIPTION:Quel sort pour les ancien•nes habitant•es du Bathyscaphe ? 
 Nous n'avons reçu aucune réponse à notre lettre à la mairie\, à la pr
 éfecture et à l'association La Main Tendue. L’hébergement au gymnase 
 se termine le 15 janvier. Nous voulons des réponses. Rassemblement vendre
 di 10 janvier 2025 à partir de 16h devant la mairie d'Aubervilliers. Vene
 z nombreux•ses nous soutenir.\n\n\n\nhttps://solidaires93.org/index.php/
 2024/12/31/quel-sort-pour-les-anciennes-habitantes-du-bathyscaphe-a-auberv
 illiers/
LOCATION:Mairie d'Aubervilliers\, 2 rue de la Commune de Paris\, Aubervilli
 ers\, 93300\, France
X-APPLE-STRUCTURED-LOCATION;VALUE=URI;X-ADDRESS=2 rue de la Commune de Pari
 s\, Aubervilliers\, 93300\, France;X-APPLE-RADIUS=100;X-TITLE=Mairie d'Aub
 ervilliers:geo:0,0
END:VEVENT
BEGIN:VTIMEZONE
TZID:Europe/Paris
X-LIC-LOCATION:Europe/Paris
BEGIN:STANDARD
DTSTART:20241027T020000
TZOFFSETFROM:+0200
TZOFFSETTO:+0100
TZNAME:CET
END:STANDARD
END:VTIMEZONE
END:VCALENDAR