BEGIN:VCALENDAR
VERSION:2.0
PRODID:-//wp-events-plugin.com//7.2.3.1//EN
TZID:Europe/Paris
X-WR-TIMEZONE:Europe/Paris
BEGIN:VEVENT
UID:61@solidaires93.org
DTSTART;TZID=Europe/Paris:20250124T140000
DTEND;TZID=Europe/Paris:20250124T140000
DTSTAMP:20250107T201021Z
URL:https://solidaires93.org/events/rassemblement-du-collectif-combat-pour
 -lhebergement-93-devant-la-prefecture/
SUMMARY:Rassemblement du collectif Combat pour l’hébergement 93 devant l
 a préfecture
DESCRIPTION:https://solidaires93.org/index.php/2025/01/07/rassemblement-du-
 collectif-combat-pour-lhebergement-93-vendredi-24-janvier-2025-devant-la-p
 refecture/
LOCATION:Préfecture de Seine-Saint-Denis\, 1 esplanade Jean Moulin\, Bobig
 ny\, 93000\, France
X-APPLE-STRUCTURED-LOCATION;VALUE=URI;X-ADDRESS=1 esplanade Jean Moulin\, B
 obigny\, 93000\, France;X-APPLE-RADIUS=100;X-TITLE=Préfecture de Seine-Sa
 int-Denis:geo:0,0
END:VEVENT
BEGIN:VTIMEZONE
TZID:Europe/Paris
X-LIC-LOCATION:Europe/Paris
BEGIN:STANDARD
DTSTART:20241027T020000
TZOFFSETFROM:+0200
TZOFFSETTO:+0100
TZNAME:CET
END:STANDARD
END:VTIMEZONE
END:VCALENDAR