BEGIN:VCALENDAR
VERSION:2.0
PRODID:-//wp-events-plugin.com//7.2.3.1//EN
TZID:Europe/Paris
X-WR-TIMEZONE:Europe/Paris
BEGIN:VEVENT
UID:31@solidaires93.org
DTSTART;TZID=Europe/Paris:20241112T170000
DTEND;TZID=Europe/Paris:20241112T170000
DTSTAMP:20241108T202751Z
URL:https://solidaires93.org/events/rassemblement-devant-la-dsden-pour-sou
 tenir-les-personnels-du-lycee-papin-de-la-courneuve/
SUMMARY:Rassemblement devant la DSDEN pour soutenir les personnels du lycé
 e Papin de La Courneuve
DESCRIPTION:https://solidaires93.org/index.php/2024/11/08/la-courneuve-une-
 infirmiere-pour-le-lycee-denis-papin-rassemblement-a-la-dsden-mardi-12-nov
 embre-2024/
LOCATION:DSDEN\, 8 rue Claude Bernard\, Bobigny\, 93000\, France
X-APPLE-STRUCTURED-LOCATION;VALUE=URI;X-ADDRESS=8 rue Claude Bernard\, Bobi
 gny\, 93000\, France;X-APPLE-RADIUS=100;X-TITLE=DSDEN:geo:0,0
END:VEVENT
BEGIN:VTIMEZONE
TZID:Europe/Paris
X-LIC-LOCATION:Europe/Paris
BEGIN:STANDARD
DTSTART:20241027T020000
TZOFFSETFROM:+0200
TZOFFSETTO:+0100
TZNAME:CET
END:STANDARD
END:VTIMEZONE
END:VCALENDAR