BEGIN:VCALENDAR
VERSION:2.0
PRODID:-//wp-events-plugin.com//7.2.3.1//EN
TZID:Europe/Paris
X-WR-TIMEZONE:Europe/Paris
BEGIN:VEVENT
UID:28@solidaires93.org
DTSTART;TZID=Europe/Paris:20241105T083000
DTEND;TZID=Europe/Paris:20241105T083000
DTSTAMP:20241104T155512Z
URL:https://solidaires93.org/events/rassemblement-des-grevistes-de-plaine-
 commune-habitat/
SUMMARY:Rassemblement des grévistes de Plaine Commune Habitat
DESCRIPTION:Contre le projet de réorganisation de l'entretien ménager\, l
 es agents de Plaine commune habitat sont en grève et appellent\, avec le 
 syndicat Sud collectivités territoriales\, à un rassemblement ce mardi 5
  novembre à 8h30 devant le siège\, 5bis Rue Danielle-Casanova à Saint-D
 enis.
LOCATION:Saint-Denis Porte de Paris\, Porte de Paris\, Saint-Denis\, 93200\
 , France
X-APPLE-STRUCTURED-LOCATION;VALUE=URI;X-ADDRESS=Porte de Paris\, Saint-Deni
 s\, 93200\, France;X-APPLE-RADIUS=100;X-TITLE=Saint-Denis Porte de Paris:g
 eo:0,0
END:VEVENT
BEGIN:VTIMEZONE
TZID:Europe/Paris
X-LIC-LOCATION:Europe/Paris
BEGIN:STANDARD
DTSTART:20241027T020000
TZOFFSETFROM:+0200
TZOFFSETTO:+0100
TZNAME:CET
END:STANDARD
END:VTIMEZONE
END:VCALENDAR