BEGIN:VCALENDAR
VERSION:2.0
PRODID:-//wp-events-plugin.com//7.2.3.1//EN
TZID:Europe/Paris
X-WR-TIMEZONE:Europe/Paris
BEGIN:VEVENT
UID:360@solidaires93.org
DTSTART;TZID=Europe/Paris:20260407T170000
DTEND;TZID=Europe/Paris:20260407T170000
DTSTAMP:20260402T053940Z
URL:https://solidaires93.org/events/rassemblement-contre-les-fermetures-de
 -classes-et-pour-plus-de-moyens-pour-leducation-en-seine-saint-denis/
SUMMARY:Rassemblement contre les fermetures de classes et pour plus de moye
 ns pour l'éducation en Seine-Saint-Denis
DESCRIPTION:
LOCATION:Préfecture de Seine-Saint-Denis\, 1 esplanade Jean Moulin\, Bobig
 ny\, 93000\, France
X-APPLE-STRUCTURED-LOCATION;VALUE=URI;X-ADDRESS=1 esplanade Jean Moulin\, B
 obigny\, 93000\, France;X-APPLE-RADIUS=100;X-TITLE=Préfecture de Seine-Sa
 int-Denis:geo:0,0
END:VEVENT
BEGIN:VTIMEZONE
TZID:Europe/Paris
X-LIC-LOCATION:Europe/Paris
BEGIN:DAYLIGHT
DTSTART:20260329T030000
TZOFFSETFROM:+0100
TZOFFSETTO:+0200
TZNAME:CEST
END:DAYLIGHT
END:VTIMEZONE
END:VCALENDAR