BEGIN:VCALENDAR
VERSION:2.0
PRODID:-//wp-events-plugin.com//7.2.3.1//EN
TZID:Europe/Paris
X-WR-TIMEZONE:Europe/Paris
BEGIN:VEVENT
UID:34@solidaires93.org
DTSTART;TZID=Europe/Paris:20241114T180000
DTEND;TZID=Europe/Paris:20241114T180000
DTSTAMP:20241114T101912Z
URL:https://solidaires93.org/events/rassemblement-contre-le-match-france-i
 srael-stop-genocide-a-gaza/
SUMMARY:Rassemblement contre le match France-Israël\, stop génocide à Ga
 za
DESCRIPTION:
ATTACH;FMTTYPE=image/jpeg:https://solidaires93.org/wp-content/uploads/2023
 /12/free-palestine2x.original.png
LOCATION:Front Populaire / campus Condorcet\, place du Front Populaire\, Sa
 int-Denis / Aubervilliers\, 93210\, France
X-APPLE-STRUCTURED-LOCATION;VALUE=URI;X-ADDRESS=place du Front Populaire\, 
 Saint-Denis / Aubervilliers\, 93210\, France;X-APPLE-RADIUS=100;X-TITLE=Fr
 ont Populaire / campus Condorcet:geo:0,0
END:VEVENT
BEGIN:VTIMEZONE
TZID:Europe/Paris
X-LIC-LOCATION:Europe/Paris
BEGIN:STANDARD
DTSTART:20241027T020000
TZOFFSETFROM:+0200
TZOFFSETTO:+0100
TZNAME:CET
END:STANDARD
END:VTIMEZONE
END:VCALENDAR