BEGIN:VCALENDAR
VERSION:2.0
PRODID:-//wp-events-plugin.com//7.2.3.1//EN
TZID:Europe/Paris
X-WR-TIMEZONE:Europe/Paris
BEGIN:VEVENT
UID:30@solidaires93.org
DTSTART;TZID=Europe/Paris:20241114T180000
DTEND;TZID=Europe/Paris:20241114T200000
DTSTAMP:20241104T162328Z
URL:https://solidaires93.org/events/permanences-fiscales-automne-2024-pour
 -les-personnes-sans-papiers-2/
SUMMARY:Permanences fiscales automne 2024 pour les personnes sans-papiers
DESCRIPTION:https://solidaires93.org/index.php/2024/11/04/permanences-fisca
 les-automne-2024-pour-les-personnes-sans-papiers/
LOCATION:Bourse du travail d'Aubervilliers\, rue des 21 appelés\, Aubervil
 liers\, 93300\, France
X-APPLE-STRUCTURED-LOCATION;VALUE=URI;X-ADDRESS=rue des 21 appelés\, Auber
 villiers\, 93300\, France;X-APPLE-RADIUS=100;X-TITLE=Bourse du travail d'A
 ubervilliers:geo:0,0
END:VEVENT
BEGIN:VTIMEZONE
TZID:Europe/Paris
X-LIC-LOCATION:Europe/Paris
BEGIN:STANDARD
DTSTART:20241027T020000
TZOFFSETFROM:+0200
TZOFFSETTO:+0100
TZNAME:CET
END:STANDARD
END:VTIMEZONE
END:VCALENDAR