BEGIN:VCALENDAR
VERSION:2.0
PRODID:-//wp-events-plugin.com//7.2.3.1//EN
TZID:Europe/Paris
X-WR-TIMEZONE:Europe/Paris
BEGIN:VEVENT
UID:364@solidaires93.org
DTSTART;TZID=Europe/Paris:20260507T180000
DTEND;TZID=Europe/Paris:20260507T203000
DTSTAMP:20260416T150026Z
URL:https://solidaires93.org/events/permanence-fiscale-2026-pour-les-perso
 nnes-sans-papiers/
SUMMARY:Permanence impôts 2026 pour les personnes sans-papiers
DESCRIPTION:\n\nPour vous aider à remplir votre déclaration de revenus\, 
 plusieurs permanences sont prévues en Seine-Saint-Denis :\n\n 	à Saint-D
 enis le vendredi 24 avril de 15h à 19h à la Bourse du travail 9-11 rue G
 énin\n 	à Montreuil le lundi 04 mai de 18h à 20h30 à la Bourse du trav
 ail 24 rue de Paris\n 	à Aubervilliers le jeudi 07 mai de 18h à 20h30 à
  la Bourse du travail 1 rue des 21 appelés\n\nÀ Montreuil\, les Brigades
  de solidarité populaire organisent également plusieurs permanences :\n\
 n 	Mardi 28 avril de 14h30 à 16h30 à Récolte Urbaine 2 Rue de la Montag
 ne Pierreuse\n 	Mardi 5 mai de 18h à 19h30 à la Parole Errante 9 Rue Fra
 nçois Debergue\n 	Mardi 12 mai de 18h à 19h30 à la Parole Errante 9 Rue
  François Debergue\n\nhttps://solidaires93.org/permanences-daide-a-la-dec
 laration-dimpot-2026-pour-les-personnes-sans-papiers/
LOCATION:Bourse du travail d'Aubervilliers\, rue des 21 appelés\, Aubervil
 liers\, 93300\, France
X-APPLE-STRUCTURED-LOCATION;VALUE=URI;X-ADDRESS=rue des 21 appelés\, Auber
 villiers\, 93300\, France;X-APPLE-RADIUS=100;X-TITLE=Bourse du travail d'A
 ubervilliers:geo:0,0
END:VEVENT
BEGIN:VTIMEZONE
TZID:Europe/Paris
X-LIC-LOCATION:Europe/Paris
BEGIN:DAYLIGHT
DTSTART:20260329T030000
TZOFFSETFROM:+0100
TZOFFSETTO:+0200
TZNAME:CEST
END:DAYLIGHT
END:VTIMEZONE
END:VCALENDAR