BEGIN:VCALENDAR
VERSION:2.0
PRODID:-//wp-events-plugin.com//7.2.3.1//EN
TZID:Europe/Paris
X-WR-TIMEZONE:Europe/Paris
BEGIN:VEVENT
UID:38@solidaires93.org
DTSTART;TZID=Europe/Paris:20241120T130000
DTEND;TZID=Europe/Paris:20241120T130000
DTSTAMP:20241117T174306Z
URL:https://solidaires93.org/events/manifestation-pour-le-relogement-des-h
 abitant-es-du-squat-gambetta/
SUMMARY:Manifestation pour le relogement des habitant⋅es du squat Gambett
 a
DESCRIPTION:https://solidaires93.org/index.php/2024/11/17/montreuil-appel-a
 -manifestation-du-collectif-gambetta-pour-le-relogement-mercredi-20-novemb
 re-2024/
LOCATION:Mairie de Montreuil\, 1 place Jean Jaures\, Montreuil\, 93100\, Fr
 ance
X-APPLE-STRUCTURED-LOCATION;VALUE=URI;X-ADDRESS=1 place Jean Jaures\, Montr
 euil\, 93100\, France;X-APPLE-RADIUS=100;X-TITLE=Mairie de Montreuil:geo:0
 ,0
END:VEVENT
BEGIN:VTIMEZONE
TZID:Europe/Paris
X-LIC-LOCATION:Europe/Paris
BEGIN:STANDARD
DTSTART:20241027T020000
TZOFFSETFROM:+0200
TZOFFSETTO:+0100
TZNAME:CET
END:STANDARD
END:VTIMEZONE
END:VCALENDAR