BEGIN:VCALENDAR
VERSION:2.0
PRODID:-//wp-events-plugin.com//7.2.3.1//EN
TZID:Europe/Paris
X-WR-TIMEZONE:Europe/Paris
BEGIN:VEVENT
UID:254@solidaires93.org
DTSTART;TZID=Europe/Paris:20250714T140000
DTEND;TZID=Europe/Paris:20250714T140000
DTSTAMP:20250706T074011Z
URL:https://solidaires93.org/events/manifestation-internationaliste-guerre
 -a-la-guerre-guerre-aux-frontieres/
SUMMARY:Manifestation internationaliste : guerre à la guerre\, guerre aux 
 frontières
DESCRIPTION:https://solidaires93.org/manifestation-internationaliste-a-pari
 s-le-14-juillet-2025/
LOCATION:Paris\, place de la Bastille\, place de la Bastille\, Paris\, 7500
 4\, France
X-APPLE-STRUCTURED-LOCATION;VALUE=URI;X-ADDRESS=place de la Bastille\, Pari
 s\, 75004\, France;X-APPLE-RADIUS=100;X-TITLE=Paris\, place de la Bastille
 :geo:0,0
END:VEVENT
BEGIN:VTIMEZONE
TZID:Europe/Paris
X-LIC-LOCATION:Europe/Paris
BEGIN:DAYLIGHT
DTSTART:20250330T030000
TZOFFSETFROM:+0100
TZOFFSETTO:+0200
TZNAME:CEST
END:DAYLIGHT
END:VTIMEZONE
END:VCALENDAR