BEGIN:VCALENDAR
VERSION:2.0
PRODID:-//wp-events-plugin.com//7.2.3.1//EN
TZID:Europe/Paris
X-WR-TIMEZONE:Europe/Paris
BEGIN:VEVENT
UID:33@solidaires93.org
DTSTART;TZID=Europe/Paris:20241123T140000
DTEND;TZID=Europe/Paris:20241123T140000
DTSTAMP:20241119T210248Z
URL:https://solidaires93.org/events/manifestation-contre-les-violences-sex
 istes-et-sexuelles-2/
SUMMARY:Manifestation contre les violences sexistes et sexuelles
DESCRIPTION:https://solidaires93.org/index.php/2024/11/19/manifestation-con
 tre-les-violences-sexistes-et-sexuelles-samedi-23-novembre-2024/
LOCATION:Paris\, Gare du Nord\, Gare du Nord\, Paris\, 75010\, France
X-APPLE-STRUCTURED-LOCATION;VALUE=URI;X-ADDRESS=Gare du Nord\, Paris\, 7501
 0\, France;X-APPLE-RADIUS=100;X-TITLE=Paris\, Gare du Nord:geo:0,0
END:VEVENT
BEGIN:VTIMEZONE
TZID:Europe/Paris
X-LIC-LOCATION:Europe/Paris
BEGIN:STANDARD
DTSTART:20241027T020000
TZOFFSETFROM:+0200
TZOFFSETTO:+0100
TZNAME:CET
END:STANDARD
END:VTIMEZONE
END:VCALENDAR