BEGIN:VCALENDAR
VERSION:2.0
PRODID:-//wp-events-plugin.com//7.2.3.1//EN
TZID:Europe/Paris
X-WR-TIMEZONE:Europe/Paris
BEGIN:VEVENT
UID:330@solidaires93.org
DTSTART;TZID=Europe/Paris:20251216T000000
DTEND;TZID=Europe/Paris:20251218T000000
DTSTAMP:20251213T091439Z
URL:https://solidaires93.org/events/les-16-17-et-18-decembre-2025-le-socia
 l-et-le-medico-social-en-greve/
SUMMARY:Les 16\, 17 et 18 décembre 2025 : le social et le médico-social e
 n grève !
DESCRIPTION:Les rendez-vous de la mobilisation : \n\n\n 	mardi 16 décembre
  :\n\n 	8h45 piquet de grève devant Interlogement 93 (rue du centenaire 
 à Montreuil)\n 	10h rassemblement devant Interlogement 93 (rue du centena
 ire à Montreuil)\n 	assemblée générale pour la lutte contre le sans-ab
 risme\n 	14h30 manifestation à Paris\, hôtel de ville vers république\n
  	18h30 assemblée générale de grève à Paris\, bourse du travail annex
 e 67 rue de Turbigo\n\n\n 	mercredi 17 décembre\n\n 	piquets de grève et
  actions\n\n\n 	jeudi 18 décembre\n\n 	initiatives dans le cadre de la Jo
 urnée internationale des migrant⋅es\n\n\n\nhttps://solidaires93.org/les
 -16-17-et-18-decembre-2025-le-social-et-le-medico-social-en-greve/
END:VEVENT
BEGIN:VTIMEZONE
TZID:Europe/Paris
X-LIC-LOCATION:Europe/Paris
BEGIN:STANDARD
DTSTART:20251026T020000
TZOFFSETFROM:+0200
TZOFFSETTO:+0100
TZNAME:CET
END:STANDARD
END:VTIMEZONE
END:VCALENDAR