BEGIN:VCALENDAR
VERSION:2.0
PRODID:-//wp-events-plugin.com//7.2.3.1//EN
TZID:Europe/Paris
X-WR-TIMEZONE:Europe/Paris
BEGIN:VEVENT
UID:331@solidaires93.org
DTSTART;TZID=Europe/Paris:20251216T183000
DTEND;TZID=Europe/Paris:20251216T183000
DTSTAMP:20251130T082823Z
URL:https://solidaires93.org/events/cours-de-droit-du-travail-droits-des-t
 ravailleur-ses-sans-papiers-et-lutte-pour-la-regularisation/
SUMMARY:Cours de droit du travail : droit des travailleur⋅ses sans-papie
 rs et lutte pour la régularisation
DESCRIPTION:https://solidaires93.org/aubervilliers-cours-de-droit-du-travai
 l-droits-des-travailleur-ses-sans-papiers-et-lutte-pour-la-regularisation-
 mardi-16-decembre-2025/
LOCATION:Bourse du travail d'Aubervilliers\, rue des 21 appelés\, Aubervil
 liers\, 93300\, France
X-APPLE-STRUCTURED-LOCATION;VALUE=URI;X-ADDRESS=rue des 21 appelés\, Auber
 villiers\, 93300\, France;X-APPLE-RADIUS=100;X-TITLE=Bourse du travail d'A
 ubervilliers:geo:0,0
END:VEVENT
BEGIN:VTIMEZONE
TZID:Europe/Paris
X-LIC-LOCATION:Europe/Paris
BEGIN:STANDARD
DTSTART:20251026T020000
TZOFFSETFROM:+0200
TZOFFSETTO:+0100
TZNAME:CET
END:STANDARD
END:VTIMEZONE
END:VCALENDAR