BEGIN:VCALENDAR
VERSION:2.0
PRODID:-//wp-events-plugin.com//7.2.3.1//EN
TZID:Europe/Paris
X-WR-TIMEZONE:Europe/Paris
BEGIN:VEVENT
UID:359@solidaires93.org
DTSTART;TZID=Europe/Paris:20260404T140000
DTEND;TZID=Europe/Paris:20260404T140000
DTSTAMP:20260402T143638Z
URL:https://solidaires93.org/events/contre-le-racisme-contre-les-droites-e
 xtremes-tous%c2%b7tes-a-saint-denis-pierrefitte/
SUMMARY:Contre le racisme\, contre les droites extrêmes\, tous·tes à Sai
 nt-Denis Pierrefitte
DESCRIPTION:https://solidaires93.org/saint-denis-pierrefitte-stop-aux-attaq
 ues-racistes-rassemblement-samedi-4-avril-2026/\n\nhttps://solidaires93.or
 g/contre-le-racisme-contre-les-droites-extremes-tous%c2%b7tes-a-saint-deni
 s-le-samedi-4-avril/
LOCATION:Mairie de Saint-Denis\, 2 place du Caquet\, Saint-Denis\, 93200\, 
 France
X-APPLE-STRUCTURED-LOCATION;VALUE=URI;X-ADDRESS=2 place du Caquet\, Saint-D
 enis\, 93200\, France;X-APPLE-RADIUS=100;X-TITLE=Mairie de Saint-Denis:geo
 :0,0
END:VEVENT
BEGIN:VTIMEZONE
TZID:Europe/Paris
X-LIC-LOCATION:Europe/Paris
BEGIN:DAYLIGHT
DTSTART:20260329T030000
TZOFFSETFROM:+0100
TZOFFSETTO:+0200
TZNAME:CEST
END:DAYLIGHT
END:VTIMEZONE
END:VCALENDAR