BEGIN:VCALENDAR
VERSION:2.0
PRODID:-//wp-events-plugin.com//7.2.3.1//EN
TZID:Europe/Paris
X-WR-TIMEZONE:Europe/Paris
BEGIN:VEVENT
UID:212@solidaires93.org
DTSTART;TZID=Europe/Paris:20250608T180000
DTEND;TZID=Europe/Paris:20250608T180000
DTSTAMP:20250522T130843Z
URL:https://solidaires93.org/events/cantine-et-soiree-contre-lexpulsion-de
 s-squats-al-zol-et-la-trotteuse/
SUMMARY:Cantine et soirée contre l'expulsion des squats Al Zol et La Trott
 euse
DESCRIPTION:https://solidaires93.org/pantin-la-mobilisation-pour-defendre-l
 es-squats-al-zol-et-la-trotteuse-continue/
LOCATION:Squat la Trotteuse\, 61 rue Charles Nodier\, Pantin\, 93500\, Fran
 ce
X-APPLE-STRUCTURED-LOCATION;VALUE=URI;X-ADDRESS=61 rue Charles Nodier\, Pan
 tin\, 93500\, France;X-APPLE-RADIUS=100;X-TITLE=Squat la Trotteuse:geo:0,0
END:VEVENT
BEGIN:VTIMEZONE
TZID:Europe/Paris
X-LIC-LOCATION:Europe/Paris
BEGIN:DAYLIGHT
DTSTART:20250330T030000
TZOFFSETFROM:+0100
TZOFFSETTO:+0200
TZNAME:CEST
END:DAYLIGHT
END:VTIMEZONE
END:VCALENDAR