BEGIN:VCALENDAR
VERSION:2.0
PRODID:-//wp-events-plugin.com//7.2.3.1//EN
TZID:Europe/Paris
X-WR-TIMEZONE:Europe/Paris
BEGIN:VEVENT
UID:260@solidaires93.org
DTSTART;TZID=Europe/Paris:20250830T190000
DTEND;TZID=Europe/Paris:20250830T190000
DTSTAMP:20250830T062928Z
URL:https://solidaires93.org/events/cantine-et-projection-de-solidarite-av
 ec-la-flottille-pour-gaza/
SUMMARY:Cantine et projection de solidarité avec la flottille pour Gaza
DESCRIPTION:Attention l'évènement est déplacé à la Maison ouverte en r
 aison du risque de pluie\n\n&nbsp\;\n\n
LOCATION:la Maison Ouverte de Montreuil\, 17 rue Hoche\, Montreuil\, 93100\
 , France
X-APPLE-STRUCTURED-LOCATION;VALUE=URI;X-ADDRESS=17 rue Hoche\, Montreuil\, 
 93100\, France;X-APPLE-RADIUS=100;X-TITLE=la Maison Ouverte de Montreuil:g
 eo:0,0
END:VEVENT
BEGIN:VTIMEZONE
TZID:Europe/Paris
X-LIC-LOCATION:Europe/Paris
BEGIN:DAYLIGHT
DTSTART:20250330T030000
TZOFFSETFROM:+0100
TZOFFSETTO:+0200
TZNAME:CEST
END:DAYLIGHT
END:VTIMEZONE
END:VCALENDAR