BEGIN:VCALENDAR
VERSION:2.0
PRODID:-//wp-events-plugin.com//7.2.3.1//EN
TZID:Europe/Paris
X-WR-TIMEZONE:Europe/Paris
BEGIN:VEVENT
UID:329@solidaires93.org
DTSTART;TZID=Europe/Paris:20251203T180000
DTEND;TZID=Europe/Paris:20251203T180000
DTSTAMP:20251129T100638Z
URL:https://solidaires93.org/events/campus-condorcet-reunion-publique-pour
 -la-sauvegarde-du-parc-arbore-et-de-pleine-terre-de-lilot-4/
SUMMARY:Campus Condorcet : réunion publique pour la sauvegarde du parc arb
 oré et de pleine terre de l’îlot 4
DESCRIPTION:Mercredi 3 décembre 2025\, de 18h à 20h à l'open space Humat
 hèque 10 cours des Humanités\n\nhttps://solidaires93.org/campus-condorce
 t-reunion-publique-pour-la-sauvegarde-du-parc-arbore-et-de-pleine-terre-de
 -lilot-4-mercredi-3-decembre-2025/
LOCATION:Front Populaire / campus Condorcet\, place du Front Populaire\, Sa
 int-Denis / Aubervilliers\, 93210\, France
X-APPLE-STRUCTURED-LOCATION;VALUE=URI;X-ADDRESS=place du Front Populaire\, 
 Saint-Denis / Aubervilliers\, 93210\, France;X-APPLE-RADIUS=100;X-TITLE=Fr
 ont Populaire / campus Condorcet:geo:0,0
END:VEVENT
BEGIN:VTIMEZONE
TZID:Europe/Paris
X-LIC-LOCATION:Europe/Paris
BEGIN:STANDARD
DTSTART:20251026T020000
TZOFFSETFROM:+0200
TZOFFSETTO:+0100
TZNAME:CET
END:STANDARD
END:VTIMEZONE
END:VCALENDAR