BEGIN:VCALENDAR
VERSION:2.0
PRODID:-//wp-events-plugin.com//7.2.3.1//EN
TZID:Europe/Paris
X-WR-TIMEZONE:Europe/Paris
BEGIN:VEVENT
UID:328@solidaires93.org
DTSTART;TZID=Europe/Paris:20251202T000000
DTEND;TZID=Europe/Paris:20251202T000000
DTSTAMP:20251128T062522Z
URL:https://solidaires93.org/events/budget-salaires-retraites-le-2-decembr
 e-toutes-et-tous-en-greve/
SUMMARY:Budget\, salaires\, retraites : le 2 décembre toutes et tous en gr
 ève !
DESCRIPTION:https://solidaires93.org/budget-salaires-retraites-le-2-decembr
 e-toutes-et-tous-en-greve/
END:VEVENT
BEGIN:VTIMEZONE
TZID:Europe/Paris
X-LIC-LOCATION:Europe/Paris
BEGIN:STANDARD
DTSTART:20251026T020000
TZOFFSETFROM:+0200
TZOFFSETTO:+0100
TZNAME:CET
END:STANDARD
END:VTIMEZONE
END:VCALENDAR