BEGIN:VCALENDAR
VERSION:2.0
PRODID:-//wp-events-plugin.com//7.2.3.1//EN
TZID:Europe/Paris
X-WR-TIMEZONE:Europe/Paris
BEGIN:VEVENT
UID:149@solidaires93.org
DTSTART;TZID=Europe/Paris:20250329T140000
DTEND;TZID=Europe/Paris:20250329T140000
DTSTAMP:20250327T155044Z
URL:https://solidaires93.org/events/aubervilliers-rassemblement-contre-la-
 fermeture-de-la-mediatheque-henri-michaud/
SUMMARY:Aubervilliers : rassemblement contre la fermeture de la médiathèq
 ue Henri Michaux
DESCRIPTION:https://solidaires93.org/aubervilliers-non-a-la-fermeture-de-la
 -mediatheque-henri-michaud/
END:VEVENT
BEGIN:VTIMEZONE
TZID:Europe/Paris
X-LIC-LOCATION:Europe/Paris
BEGIN:STANDARD
DTSTART:20241027T020000
TZOFFSETFROM:+0200
TZOFFSETTO:+0100
TZNAME:CET
END:STANDARD
END:VTIMEZONE
END:VCALENDAR