BEGIN:VCALENDAR
VERSION:2.0
PRODID:-//wp-events-plugin.com//7.2.3.1//EN
TZID:Europe/Paris
X-WR-TIMEZONE:Europe/Paris
BEGIN:VEVENT
UID:371@solidaires93.org
DTSTART;TZID=Europe/Paris:20260428T100000
DTEND;TZID=Europe/Paris:20260428T100000
DTSTAMP:20260422T164259Z
URL:https://solidaires93.org/events/accidents-du-travail-rassemblement-dev
 ant-le-siege-de-la-sncf/
SUMMARY:Accidents du travail : rassemblement devant le siège de la SNCF
DESCRIPTION:Toutes les infos sur le site de SUD rail : https://sudrail.fr/A
 CCIDENTS-DU-TRAVAIL-LES-CHEMINOT-E-S-PAIENT-LE-PRIX-FORT\n\n
LOCATION:Saint-Denis\, Saint-Denis\, Saint-Denis\, 93200\, France
X-APPLE-STRUCTURED-LOCATION;VALUE=URI;X-ADDRESS=Saint-Denis\, Saint-Denis\,
  93200\, France;X-APPLE-RADIUS=100;X-TITLE=Saint-Denis:geo:0,0
END:VEVENT
BEGIN:VTIMEZONE
TZID:Europe/Paris
X-LIC-LOCATION:Europe/Paris
BEGIN:DAYLIGHT
DTSTART:20260329T030000
TZOFFSETFROM:+0100
TZOFFSETTO:+0200
TZNAME:CEST
END:DAYLIGHT
END:VTIMEZONE
END:VCALENDAR