BEGIN:VCALENDAR
VERSION:2.0
PRODID:-//wp-events-plugin.com//7.2.3.1//EN
TZID:Europe/Paris
X-WR-TIMEZONE:Europe/Paris
BEGIN:VEVENT
UID:35@solidaires93.org
DTSTART;TZID=Europe/Paris;VALUE=DATE:20241205
DTEND;TZID=Europe/Paris;VALUE=DATE:20241206
DTSTAMP:20241203T201411Z
URL:https://solidaires93.org/events/5-decembre-greve-ag-et-manifestation/
SUMMARY:5 décembre : grève\, AG et manifestation
DESCRIPTION:AG de grève locales\n\n\nAubervilliers : 10h à la Bourse du t
 ravail\, rue des 21 appelés\n\n\n\nAulnay-sous-Bois\, Sevran\, Tremblay-e
 n-France\, Villepinte : 10h à la Bourse du travail d'Aulnay-sous-Bois\, 1
 9 rue Jacques Duclos\n\n\n\nBagnolet : 10h à la Bourse du travail\, 13 ru
 e Pierre et Marie Curie\nBondy : 9h30 hall de la mairie\nLa Courneuve : 10
 h à la Bourse du travail\, 26 avenue Gabriel Péri\n\n\n\nMontreuil : 10h
  à la Bourse du travail\, 24 rue de Paris\nNoisy-le-Sec : 10h Maison des 
 syndicats\, 15 rue A. Damoiselet\nPantin : 11h parvis de la mairie\n\n\n\n
 Pierrefitte\, Stains\, Villetaneuse : 10h à la Bourse du travail de Stain
 s\, 4 rue Pierre de Geyter\nRomainville : 10h école M. Bastié\, 11 rue d
 es fontaines\n\n\n\nSaint-Denis : 10h à la Bourse du travail 9-11 rue Gé
 nin\n\n\n\nSaint-Ouen : 10 à la Bourse du travail 30 rue Ambroise Croizat
 \n\n\nManifestation francilienne : 14h Bercy en direction de place d'Ital
 ie\nhttps://solidaires93.org/index.php/2024/11/28/contre-les-attaques-dans
 -la-fonction-publique-greve-le-5-decembre/
END:VEVENT
BEGIN:VTIMEZONE
TZID:Europe/Paris
X-LIC-LOCATION:Europe/Paris
BEGIN:STANDARD
DTSTART:20241027T020000
TZOFFSETFROM:+0200
TZOFFSETTO:+0100
TZNAME:CET
END:STANDARD
END:VTIMEZONE
END:VCALENDAR