BEGIN:VCALENDAR
VERSION:2.0
PRODID:-//wp-events-plugin.com//7.2.3.1//EN
TZID:Europe/Paris
X-WR-TIMEZONE:Europe/Paris
BEGIN:VEVENT
UID:259@solidaires93.org
DTSTART;TZID=Europe/Paris:20250823T153000
DTEND;TZID=Europe/Paris:20250823T153000
DTSTAMP:20250818T201441Z
URL:https://solidaires93.org/events/29e-anniversaire-de-lexpulsion-violent
 e-des-sans-papiers-de-leglise-st-bernard-en-1996-on-noublie-pas/
SUMMARY:29e anniversaire de l'expulsion violente des Sans-papiers de l'égl
 ise St-Bernard en 1996 : on n'oublie pas !
DESCRIPTION:À l'appel de l'intercollectif des sans-papiers d'Île-de-Franc
 e (Coordination Sans-Papiers 75\, CTSP Vitry\, CSPM\, CSP 17e\, CSP 93\, D
 roits Devant !!\, Gilets Noirs\, Collectif des Jeunes du Parc de Bellevill
 e)\, manifestation pour 29e anniversaire de l'expulsion violente des Sans-
 papiers de l'église St-Bernard en 1996 le samedi 23 août 2025 au départ
  de la Gare de l'Est à 15h30.\n\n250823 Intercollectif tract d'appel pour
  la manif St Bernard 2025\n\n
LOCATION:Paris\, Gare de l'Est\, Gare de l'Est\, Paris\, 75010\, France
X-APPLE-STRUCTURED-LOCATION;VALUE=URI;X-ADDRESS=Gare de l'Est\, Paris\, 750
 10\, France;X-APPLE-RADIUS=100;X-TITLE=Paris\, Gare de l'Est:geo:0,0
END:VEVENT
BEGIN:VTIMEZONE
TZID:Europe/Paris
X-LIC-LOCATION:Europe/Paris
BEGIN:DAYLIGHT
DTSTART:20250330T030000
TZOFFSETFROM:+0100
TZOFFSETTO:+0200
TZNAME:CEST
END:DAYLIGHT
END:VTIMEZONE
END:VCALENDAR