BEGIN:VCALENDAR
VERSION:2.0
PRODID:-//wp-events-plugin.com//7.2.3.1//EN
TZID:Europe/Paris
X-WR-TIMEZONE:Europe/Paris
BEGIN:VEVENT
UID:372@solidaires93.org
DTSTART;TZID=Europe/Paris:20260501T140000
DTEND;TZID=Europe/Paris:20260501T140000
DTSTAMP:20260424T141325Z
URL:https://solidaires93.org/events/1er-mai-2026/
SUMMARY:1er mai 2026 - manifestation fancilienne
DESCRIPTION:Appel intersyndical IDF : https://solidairesparis.org/le-1er-ma
 i-2026-ensemble-pour-la-paix-pour-le-progres-social-et-la-defense-de-la-de
 mocratie\n\nAppel intersyndical national : https://solidaires.org/sinforme
 r-et-agir/actualites-et-mobilisations/nationales/face-a-lurgence-sociale-m
 anifestons-le-1er-mai/\n\n
LOCATION:Paris\, place de la République\, place de la République\, Paris\
 , France
X-APPLE-STRUCTURED-LOCATION;VALUE=URI;X-ADDRESS=place de la République\, P
 aris\, France;X-APPLE-RADIUS=100;X-TITLE=Paris\, place de la République:g
 eo:0,0
END:VEVENT
BEGIN:VTIMEZONE
TZID:Europe/Paris
X-LIC-LOCATION:Europe/Paris
BEGIN:DAYLIGHT
DTSTART:20260329T030000
TZOFFSETFROM:+0100
TZOFFSETTO:+0200
TZNAME:CEST
END:DAYLIGHT
END:VTIMEZONE
END:VCALENDAR